BEGIN:VCALENDAR
VERSION:2.0
PRODID:-//wp-events-plugin.com//7.2.3.1//EN
TZID:Europe/Amsterdam
X-WR-TIMEZONE:Europe/Amsterdam
BEGIN:VEVENT
UID:142@schaakclubzsg.nl
DTSTART;TZID=Europe/Amsterdam:20251121T000000
DTEND;TZID=Europe/Amsterdam:20251121T000000
DTSTAMP:20251117T223129Z
URL:https://www.schaakclubzsg.nl/events/rapidschaak/
SUMMARY:Rapidschaak
DESCRIPTION:In de rapidcompetitie worden drie partijen op een avond gespeel
 d met 15 min p.p.p.p. + 5 sec per zet. Let op: aanvang 19:30 uur. De VO-je
 ugd speelt 2 of 3 partijen mee\, i.p.v. de jeugdcompetitie.
CATEGORIES:Rapidschaak
END:VEVENT
BEGIN:VTIMEZONE
TZID:Europe/Amsterdam
X-LIC-LOCATION:Europe/Amsterdam
BEGIN:STANDARD
DTSTART:20251026T020000
TZOFFSETFROM:+0200
TZOFFSETTO:+0100
TZNAME:CET
END:STANDARD
END:VTIMEZONE
END:VCALENDAR