BEGIN:VCALENDAR
VERSION:2.0
PRODID:-//wp-events-plugin.com//7.2.3.1//EN
TZID:Europe/Amsterdam
X-WR-TIMEZONE:Europe/Amsterdam
BEGIN:VEVENT
UID:141@schaakclubzsg.nl
DTSTART;TZID=Europe/Amsterdam:20250412T130000
DTEND;TZID=Europe/Amsterdam:20250412T183000
DTSTAMP:20250321T153846Z
URL:https://www.schaakclubzsg.nl/events/knsb-competitie/
SUMMARY:KNSB-competitie
DESCRIPTION:
CATEGORIES:KNSB-Competitie
END:VEVENT
BEGIN:VTIMEZONE
TZID:Europe/Amsterdam
X-LIC-LOCATION:Europe/Amsterdam
BEGIN:DAYLIGHT
DTSTART:20250330T030000
TZOFFSETFROM:+0100
TZOFFSETTO:+0200
TZNAME:CEST
END:DAYLIGHT
END:VTIMEZONE
END:VCALENDAR