BEGIN:VCALENDAR
VERSION:2.0
PRODID:-//wp-events-plugin.com//7.2.3.1//EN
TZID:Europe/Amsterdam
X-WR-TIMEZONE:Europe/Amsterdam
BEGIN:VEVENT
UID:140@schaakclubzsg.nl
DTSTART;TZID=Europe/Amsterdam:20250402T194500
DTEND;TZID=Europe/Amsterdam:20250402T233000
DTSTAMP:20250321T144113Z
URL:https://www.schaakclubzsg.nl/events/hsb-competitie/
SUMMARY:HSB-competitie
DESCRIPTION:﻿﻿
LOCATION:Nationaal Schaakgebouw\, Van Speijkstraat 1\, Den Haag\, Zuid-Holl
 and\, 2518 EV\, Nederland
X-APPLE-STRUCTURED-LOCATION;VALUE=URI;X-ADDRESS=Van Speijkstraat 1\, Den Ha
 ag\, Zuid-Holland\, 2518 EV\, Nederland;X-APPLE-RADIUS=100;X-TITLE=Nationa
 al Schaakgebouw:geo:0,0
END:VEVENT
BEGIN:VTIMEZONE
TZID:Europe/Amsterdam
X-LIC-LOCATION:Europe/Amsterdam
BEGIN:DAYLIGHT
DTSTART:20250330T030000
TZOFFSETFROM:+0100
TZOFFSETTO:+0200
TZNAME:CEST
END:DAYLIGHT
END:VTIMEZONE
END:VCALENDAR